BEGIN:VCALENDAR
VERSION:2.0
CALSCALE:GREGORIAN
PRODID:adamgibbons/ics
METHOD:PUBLISH
X-PUBLISHED-TTL:PT1H
BEGIN:VEVENT
UID:oHfFEZegDoJA6Bae3xrAo
SUMMARY:TAVOLO DI CONFRONTO | Questioni di attualità tributaria: applicazio
	ne delle sentenze penali di assoluzione nel processo tributario e la quest
	ione della dipendenza della Magistratura Tributaria dal MEF
DTSTAMP:20260416T182356Z
DTSTART:20260421T130000Z
DESCRIPTION:Rimani aggiornato sul programma dell'evento\nhttps://24oreworks
	hop.ilsole24ore.com/questioni-di-attualita-tributaria-21-aprile-2026
URL:https://24oreworkshop.ilsole24ore.com/questioni-di-attualita-tributaria
	-21-aprile-2026
DURATION:PT1H
END:VEVENT
END:VCALENDAR
