BEGIN:VCALENDAR
VERSION:2.0
CALSCALE:GREGORIAN
PRODID:adamgibbons/ics
METHOD:PUBLISH
X-PUBLISHED-TTL:PT1H
BEGIN:VEVENT
UID:c9kOBfgVTc3iaruwlw8cw
SUMMARY:PITCH Servizi e Opportunità | Mediazione civile: la via più efficac
	e per risolvere le controversie
DTSTAMP:20260415T225714Z
DTSTART:20260423T150000Z
DESCRIPTION:Rimani aggiornato sul programma dell'evento\nhttps://24oreworks
	hop.ilsole24ore.com/pitch-servizi-e-opportunita-23-maggio-2026
URL:https://24oreworkshop.ilsole24ore.com/pitch-servizi-e-opportunita-23-ma
	ggio-2026
DURATION:PT30M
END:VEVENT
END:VCALENDAR
