BEGIN:VCALENDAR
VERSION:2.0
CALSCALE:GREGORIAN
PRODID:adamgibbons/ics
METHOD:PUBLISH
X-PUBLISHED-TTL:PT1H
BEGIN:VEVENT
UID:x7pwGyc-XAGskqoJA-70U
SUMMARY:PITCH Servizi e Opportunità | La Certificazione EFRMS 14:2019 – Com
	e ottenere il “bollino blu” di Adeguato Assetto in visura camerale
DTSTAMP:20260408T135315Z
DTSTART:20260421T150000Z
DESCRIPTION:Rimani aggiornato sul programma dell'evento\nhttps://24oreworks
	hop.ilsole24ore.com/pitch-servizi-e-opportunita-21-aprile-2026
URL:https://24oreworkshop.ilsole24ore.com/pitch-servizi-e-opportunita-21-ap
	rile-2026
DURATION:PT30M
END:VEVENT
END:VCALENDAR
