BEGIN:VCALENDAR
VERSION:2.0
CALSCALE:GREGORIAN
PRODID:adamgibbons/ics
METHOD:PUBLISH
X-PUBLISHED-TTL:PT1H
BEGIN:VEVENT
UID:rhPqfyP4Tl4swPb2a1h-W
SUMMARY:Caffè Letterario 21/4
DTSTAMP:20260408T124410Z
DTSTART:20260421T123000Z
DESCRIPTION:Rimani aggiornato sul programma dell'evento\nhttps://24oreworks
	hop.ilsole24ore.com/caffe-letterario-21
URL:https://24oreworkshop.ilsole24ore.com/caffe-letterario-21
DURATION:PT1H
END:VEVENT
END:VCALENDAR
