BEGIN:VCALENDAR
VERSION:2.0
CALSCALE:GREGORIAN
PRODID:adamgibbons/ics
METHOD:PUBLISH
X-PUBLISHED-TTL:PT1H
BEGIN:VEVENT
UID:ABBTnL85C6d2etjp1J9mm
SUMMARY:Transizione Sostenibile In Sicilia: Dal Piano Rifiuti Alle Strategi
	e Per Pubblica Amministrazione e Imprese
DTSTAMP:20260407T142620Z
DTSTART:20260422T100000Z
DESCRIPTION:Rimani aggiornato sul programma dell'evento\nhttps://24oreworks
	hop.ilsole24ore.com/transizione-sostenibile-in-sicilia-dal-piano-rifiuti-a
	lle-strategie-per-pubblica-ammi
URL:https://24oreworkshop.ilsole24ore.com/transizione-sostenibile-in-sicili
	a-dal-piano-rifiuti-alle-strategie-per-pubblica-ammi
DURATION:PT2H30M
END:VEVENT
END:VCALENDAR
