BEGIN:VCALENDAR
VERSION:2.0
CALSCALE:GREGORIAN
PRODID:adamgibbons/ics
METHOD:PUBLISH
X-PUBLISHED-TTL:PT1H
BEGIN:VEVENT
UID:cKvarF66eRV-O8PDu-lju
SUMMARY:Valore24 AI OFFICE sessione dedicata ai Commercialisti
DTSTAMP:20260403T034501Z
DTSTART:20260420T150000Z
DESCRIPTION:Rimani aggiornato sul programma dell'evento\nhttps://24oreworks
	hop.ilsole24ore.com/valore24-20-aprile-2026-2
URL:https://24oreworkshop.ilsole24ore.com/valore24-20-aprile-2026-2
DURATION:PT1H
END:VEVENT
END:VCALENDAR
