BEGIN:VCALENDAR
VERSION:2.0
CALSCALE:GREGORIAN
PRODID:adamgibbons/ics
METHOD:PUBLISH
X-PUBLISHED-TTL:PT1H
BEGIN:VEVENT
UID:cvT5Ys57bEHX-CGphTiTi
SUMMARY:Valore24 231
DTSTAMP:20260403T033618Z
DTSTART:20260420T123000Z
DESCRIPTION:Rimani aggiornato sul programma dell'evento\nhttps://24oreworks
	hop.ilsole24ore.com/valore24-20-aprile-2026-1
URL:https://24oreworkshop.ilsole24ore.com/valore24-20-aprile-2026-1
DURATION:PT1H
END:VEVENT
END:VCALENDAR
