BEGIN:VCALENDAR
VERSION:2.0
CALSCALE:GREGORIAN
PRODID:adamgibbons/ics
METHOD:PUBLISH
X-PUBLISHED-TTL:PT1H
BEGIN:VEVENT
UID:EY4TraYolMvtzezkHDJIq
SUMMARY:Le parole del lavoro - cultura territorio persone futuro
DTSTAMP:20260402T090636Z
DTSTART:20260420T220000Z
DESCRIPTION:Rimani aggiornato sul programma dell'evento\nhttps://24oreworks
	hop.ilsole24ore.com/le-parole-del-lavoro-cultura-territorio-persone-futuro
	-lavoro-e-identita-storie-che-u
URL:https://24oreworkshop.ilsole24ore.com/le-parole-del-lavoro-cultura-terr
	itorio-persone-futuro-lavoro-e-identita-storie-che-u
LOCATION:Salotto di Città Nicola Irti - Sala Conferenze Montessori   - Via 
	Genserico Fontana n. 6 
DURATION:PT11H6M
END:VEVENT
END:VCALENDAR
