BEGIN:VCALENDAR
VERSION:2.0
CALSCALE:GREGORIAN
PRODID:adamgibbons/ics
METHOD:PUBLISH
X-PUBLISHED-TTL:PT1H
BEGIN:VEVENT
UID:6NAlt1YfcQanC7HH1q4d9
SUMMARY:Il Punto Sostenibilità 22/4
DTSTAMP:20260325T094936Z
DTSTART:20260422T123000Z
DESCRIPTION:Rimani aggiornato sul programma dell'evento\nhttps://24oreworks
	hop.ilsole24ore.com/il-punto-sostenibilita-22-aprile-2026
URL:https://24oreworkshop.ilsole24ore.com/il-punto-sostenibilita-22-aprile-
	2026
DURATION:PT
END:VEVENT
END:VCALENDAR
