BEGIN:VCALENDAR
VERSION:2.0
CALSCALE:GREGORIAN
PRODID:adamgibbons/ics
METHOD:PUBLISH
X-PUBLISHED-TTL:PT1H
BEGIN:VEVENT
UID:lpFGFRbufp3HZh9tqiVGe
SUMMARY:Il Punto del Lunedì 20/4
DTSTAMP:20260323T164514Z
DTSTART:20260420T063000Z
DESCRIPTION:Rimani aggiornato sul programma dell'evento\nhttps://24oreworks
	hop.ilsole24ore.com/il-punto-del-lunedi-20-aprile-2026
URL:https://24oreworkshop.ilsole24ore.com/il-punto-del-lunedi-20-aprile-202
	6
DURATION:PT1H
END:VEVENT
END:VCALENDAR
