BEGIN:VCALENDAR
VERSION:2.0
CALSCALE:GREGORIAN
PRODID:adamgibbons/ics
METHOD:PUBLISH
X-PUBLISHED-TTL:PT1H
BEGIN:VEVENT
UID:w1LuiTxqNYp7QqkUwVfSU
SUMMARY:Droghe e diritto
DTSTAMP:20260312T110051Z
DTSTART:20260420T130000Z
DESCRIPTION:Rimani aggiornato sul programma dell'evento\nhttps://24oreworks
	hop.ilsole24ore.com/droghe-e-diritto-il-nodo-culturale-della-normativa-ita
	liana-tra-politiche-di-contrast
URL:https://24oreworkshop.ilsole24ore.com/droghe-e-diritto-il-nodo-cultural
	e-della-normativa-italiana-tra-politiche-di-contrast
DURATION:PT3H
END:VEVENT
END:VCALENDAR
