BEGIN:VCALENDAR
VERSION:2.0
CALSCALE:GREGORIAN
PRODID:adamgibbons/ics
METHOD:PUBLISH
X-PUBLISHED-TTL:PT1H
BEGIN:VEVENT
UID:mrvCPqbRf7SnioEUt0386
SUMMARY:Gli Incontri di Partner 24 ORE 2026 | Firenze giovedì 23/4
DTSTAMP:20260301T212955Z
DTSTART:20260423T140000Z
DESCRIPTION:Rimani aggiornato sul programma dell'evento\nhttps://24oreworks
	hop.ilsole24ore.com/gli-incontri-di-partner-24-ore-2026-firenze
URL:https://24oreworkshop.ilsole24ore.com/gli-incontri-di-partner-24-ore-20
	26-firenze
DURATION:PT3H
END:VEVENT
END:VCALENDAR
