BEGIN:VCALENDAR
VERSION:2.0
CALSCALE:GREGORIAN
PRODID:adamgibbons/ics
METHOD:PUBLISH
X-PUBLISHED-TTL:PT1H
BEGIN:VEVENT
UID:T3E9ceamuz2UjoyDEmcGp
SUMMARY:Gli Incontri di Partner 24 ORE 2026 | Napoli mercoledì 22/4
DTSTAMP:20260301T211541Z
DTSTART:20260422T140000Z
DESCRIPTION:Rimani aggiornato sul programma dell'evento\nhttps://24oreworks
	hop.ilsole24ore.com/gli-incontri-di-partner-24-ore-2026-napoli1
URL:https://24oreworkshop.ilsole24ore.com/gli-incontri-di-partner-24-ore-20
	26-napoli1
DURATION:PT3H
END:VEVENT
END:VCALENDAR
